git_url: https://git.bioconductor.org/packages/crisprseekplus
git_branch: RELEASE_3_17
git_last_commit: 5172ddb
git_last_commit_date: 2023-04-25 10:50:33 -0400 (Tue, 25 Apr 2023)
Package: crisprseekplus
Version: 1.26.0
Maintainer: Alper Kucukural
MaintainerEmail: alper.kucukural at umassmed.edu