git_url: https://git.bioconductor.org/packages/crisprBwa
git_branch: RELEASE_3_17
git_last_commit: 23e00c4
git_last_commit_date: 2023-04-25 11:37:51 -0400 (Tue, 25 Apr 2023)
Package: crisprBwa
Version: 1.4.0
Maintainer: Jean-Philippe Fortin
MaintainerEmail: fortin946 at gmail.com