Package: consensusOV Version: 1.22.0 Command: F:\biocbuild\bbs-3.17-bioc\R\bin\R.exe CMD INSTALL consensusOV StartedAt: 2023-10-15 17:00:49 -0400 (Sun, 15 Oct 2023) EndedAt: 2023-10-15 17:01:44 -0400 (Sun, 15 Oct 2023) EllapsedTime: 55.6 seconds RetCode: 0 Status: OK