Package: consensusOV Version: 1.22.0 Command: chmod a+r consensusOV -R && F:\biocbuild\bbs-3.17-bioc\R\bin\R.exe CMD build --keep-empty-dirs --no-resave-data consensusOV StartedAt: 2023-10-15 18:21:02 -0400 (Sun, 15 Oct 2023) EndedAt: 2023-10-15 18:23:46 -0400 (Sun, 15 Oct 2023) EllapsedTime: 164.5 seconds RetCode: 0 Status: OK PackageFile: consensusOV_1.22.0.tar.gz PackageFileSize: 3.167 MiB