Package: consensusOV Version: 1.22.0 Command: /home/biocbuild/bbs-3.17-bioc/R/bin/R CMD check --install=check:consensusOV.install-out.txt --library=/home/biocbuild/bbs-3.17-bioc/R/site-library --timings consensusOV_1.22.0.tar.gz StartedAt: 2023-10-15 20:20:19 -0400 (Sun, 15 Oct 2023) EndedAt: 2023-10-15 20:27:04 -0400 (Sun, 15 Oct 2023) EllapsedTime: 405.9 seconds RetCode: 0 Status: OK CheckDir: consensusOV.Rcheck Warnings: 0