Package: consensusOV Version: 1.22.0 Command: /home/biocbuild/bbs-3.17-bioc/R/bin/R CMD build --keep-empty-dirs --no-resave-data consensusOV StartedAt: 2023-10-15 16:24:46 -0400 (Sun, 15 Oct 2023) EndedAt: 2023-10-15 16:27:07 -0400 (Sun, 15 Oct 2023) EllapsedTime: 141.7 seconds RetCode: 0 Status: OK PackageFile: consensusOV_1.22.0.tar.gz PackageFileSize: 3.204 MiB