Package: consensusOV
Version: 1.22.0
Command: /Library/Frameworks/R.framework/Resources/bin/R CMD INSTALL consensusOV
StartedAt: 2023-10-15 16:27:23 -0400 (Sun, 15 Oct 2023)
EndedAt: 2023-10-15 16:29:43 -0400 (Sun, 15 Oct 2023)
EllapsedTime: 140.4 seconds
RetCode: 0
Status: OK