Package: consensusOV
Version: 1.22.0
Command: /Library/Frameworks/R.framework/Resources/bin/R CMD check --install=check:consensusOV.install-out.txt --library=/Library/Frameworks/R.framework/Resources/library --no-vignettes --timings consensusOV_1.22.0.tar.gz
StartedAt: 2023-10-16 00:11:11 -0400 (Mon, 16 Oct 2023)
EndedAt: 2023-10-16 00:23:14 -0400 (Mon, 16 Oct 2023)
EllapsedTime: 723.6 seconds
RetCode: 0
Status: OK
CheckDir: consensusOV.Rcheck
Warnings: 0