Package: consensusOV
Version: 1.22.0
Command: /Library/Frameworks/R.framework/Resources/bin/R CMD build --keep-empty-dirs --no-resave-data consensusOV
StartedAt: 2023-10-15 17:36:53 -0400 (Sun, 15 Oct 2023)
EndedAt: 2023-10-15 17:41:37 -0400 (Sun, 15 Oct 2023)
EllapsedTime: 283.8 seconds
RetCode: 0
Status: OK
PackageFile: consensusOV_1.22.0.tar.gz
PackageFileSize: 3.209 <A href="http://en.wikipedia.org/wiki/MiB" target="_blank">MiB</A>