Package: consensusOV
Version: 1.22.0
Command: rm -rf consensusOV.buildbin-libdir && mkdir consensusOV.buildbin-libdir && /Users/biocbuild/BBS/utils/build-universal.sh consensusOV_1.22.0.tar.gz /Library/Frameworks/R.framework/Resources/bin/R consensusOV.buildbin-libdir
StartedAt: 2023-10-16 09:11:55 -0400 (Mon, 16 Oct 2023)
EndedAt: 2023-10-16 09:14:25 -0400 (Mon, 16 Oct 2023)
EllapsedTime: 149.5 seconds
RetCode: 0
Status: OK
PackageFile: consensusOV_1.22.0.tgz
PackageFileSize: 4.521 <A href="http://en.wikipedia.org/wiki/MiB" target="_blank">MiB</A>