Package: coRdon Version: 1.18.0 Command: /home/biocbuild/bbs-3.17-bioc/R/bin/R CMD check --install=check:coRdon.install-out.txt --library=/home/biocbuild/bbs-3.17-bioc/R/site-library --timings coRdon_1.18.0.tar.gz StartedAt: 2023-10-15 20:21:54 -0400 (Sun, 15 Oct 2023) EndedAt: 2023-10-15 20:24:16 -0400 (Sun, 15 Oct 2023) EllapsedTime: 141.7 seconds RetCode: 0 Status: OK CheckDir: coRdon.Rcheck Warnings: 0