Package: coRdon
Version: 1.18.0
Command: /home/biocbuild/bbs-3.17-bioc/R/bin/R CMD build --keep-empty-dirs --no-resave-data coRdon
StartedAt: 2023-10-15 16:25:35 -0400 (Sun, 15 Oct 2023)
EndedAt: 2023-10-15 16:26:21 -0400 (Sun, 15 Oct 2023)
EllapsedTime: 45.6 seconds
RetCode: 0
Status: OK
PackageFile: coRdon_1.18.0.tar.gz
PackageFileSize: 2.125 <A href="http://en.wikipedia.org/wiki/MiB" target="_blank">MiB</A>