Package: clusterProfiler Version: 4.8.3 Command: F:\biocbuild\bbs-3.17-bioc\R\bin\R.exe CMD check --no-multiarch --install=check:clusterProfiler.install-out.txt --library=F:\biocbuild\bbs-3.17-bioc\R\library --no-vignettes --timings clusterProfiler_4.8.3.tar.gz StartedAt: 2023-10-16 00:42:20 -0400 (Mon, 16 Oct 2023) EndedAt: 2023-10-16 00:46:11 -0400 (Mon, 16 Oct 2023) EllapsedTime: 230.7 seconds RetCode: 0 Status: OK CheckDir: clusterProfiler.Rcheck Warnings: 0