git_url: https://git.bioconductor.org/packages/clustComp
git_branch: RELEASE_3_17
git_last_commit: e4709b6
git_last_commit_date: 2023-04-25 10:44:18 -0400 (Tue, 25 Apr 2023)
Package: clustComp
Version: 1.28.0
Maintainer: Aurora Torrente
MaintainerEmail: aurora at ebi.ac.uk