git_url: https://git.bioconductor.org/packages/cliqueMS
git_branch: RELEASE_3_17
git_last_commit: 7f3207e
git_last_commit_date: 2023-07-09 22:24:10 -0400 (Sun, 09 Jul 2023)
Package: cliqueMS
Version: 1.14.1
Maintainer: Oriol Senan Campos
MaintainerEmail: oriol.senan at praenoscere.com