Package: clipper Version: 1.40.0 Command: rm -rf clipper.buildbin-libdir && mkdir clipper.buildbin-libdir && F:\biocbuild\bbs-3.17-bioc\R\bin\R.exe CMD INSTALL --build --library=clipper.buildbin-libdir clipper_1.40.0.tar.gz StartedAt: 2023-09-22 08:43:16 -0400 (Fri, 22 Sep 2023) EndedAt: 2023-09-22 08:44:03 -0400 (Fri, 22 Sep 2023) EllapsedTime: 47.4 seconds RetCode: 0 Status: OK PackageFile: clipper_1.40.0.zip PackageFileSize: 720.1 KiB