Package: clipper Version: 1.40.0 Command: /home/biocbuild/bbs-3.17-bioc/R/bin/R CMD INSTALL clipper StartedAt: 2023-10-15 15:23:14 -0400 (Sun, 15 Oct 2023) EndedAt: 2023-10-15 15:23:53 -0400 (Sun, 15 Oct 2023) EllapsedTime: 38.9 seconds RetCode: 0 Status: OK