git_url: https://git.bioconductor.org/packages/circRNAprofiler
git_branch: RELEASE_3_17
git_last_commit: 1ddc8f7
git_last_commit_date: 2023-04-25 11:11:15 -0400 (Tue, 25 Apr 2023)
Package: circRNAprofiler
Version: 1.14.0
Maintainer: Simona Aufiero
MaintainerEmail: simo.aufiero at gmail.com