Package: chromPlot Version: 1.28.0 Command: F:\biocbuild\bbs-3.17-bioc\R\bin\R.exe CMD check --no-multiarch --install=check:chromPlot.install-out.txt --library=F:\biocbuild\bbs-3.17-bioc\R\library --no-vignettes --timings chromPlot_1.28.0.tar.gz StartedAt: 2023-10-16 00:33:56 -0400 (Mon, 16 Oct 2023) EndedAt: 2023-10-16 00:35:48 -0400 (Mon, 16 Oct 2023) EllapsedTime: 111.8 seconds RetCode: 0 Status: WARNINGS CheckDir: chromPlot.Rcheck Warnings: 1