Package: chromPlot Version: 1.28.0 Command: /home/biocbuild/bbs-3.17-bioc/R/bin/R CMD build --keep-empty-dirs --no-resave-data chromPlot StartedAt: 2023-10-15 16:18:20 -0400 (Sun, 15 Oct 2023) EndedAt: 2023-10-15 16:19:01 -0400 (Sun, 15 Oct 2023) EllapsedTime: 41.5 seconds RetCode: 0 Status: OK PackageFile: chromPlot_1.28.0.tar.gz PackageFileSize: 1.352 MiB