Package: chromPlot Version: 1.28.0 Command: /Library/Frameworks/R.framework/Resources/bin/R CMD INSTALL chromPlot StartedAt: 2023-10-15 15:29:39 -0400 (Sun, 15 Oct 2023) EndedAt: 2023-10-15 15:30:43 -0400 (Sun, 15 Oct 2023) EllapsedTime: 63.3 seconds RetCode: 0 Status: OK