Package: chromPlot Version: 1.28.0 Command: /Library/Frameworks/R.framework/Resources/bin/R CMD build --keep-empty-dirs --no-resave-data chromPlot StartedAt: 2023-10-15 17:24:40 -0400 (Sun, 15 Oct 2023) EndedAt: 2023-10-15 17:26:33 -0400 (Sun, 15 Oct 2023) EllapsedTime: 112.9 seconds RetCode: 0 Status: OK PackageFile: chromPlot_1.28.0.tar.gz PackageFileSize: 1.52 MiB