Package: chromPlot Version: 1.28.0 Command: rm -rf chromPlot.buildbin-libdir && mkdir chromPlot.buildbin-libdir && /Users/biocbuild/BBS/utils/build-universal.sh chromPlot_1.28.0.tar.gz /Library/Frameworks/R.framework/Resources/bin/R chromPlot.buildbin-libdir StartedAt: 2023-10-16 09:08:12 -0400 (Mon, 16 Oct 2023) EndedAt: 2023-10-16 09:09:21 -0400 (Mon, 16 Oct 2023) EllapsedTime: 69.3 seconds RetCode: 0 Status: OK PackageFile: chromPlot_1.28.0.tgz PackageFileSize: 1.596 MiB