git_url: https://git.bioconductor.org/packages/chipenrich
git_branch: RELEASE_3_17
git_last_commit: 4f411dc
git_last_commit_date: 2023-04-25 10:28:35 -0400 (Tue, 25 Apr 2023)
Package: chipenrich
Version: 2.24.0
Maintainer: Kai Wang
MaintainerEmail: wangdaha at umich.edu