git_url: https://git.bioconductor.org/packages/cellscape
git_branch: RELEASE_3_17
git_last_commit: 5204154
git_last_commit_date: 2023-04-25 10:52:29 -0400 (Tue, 25 Apr 2023)
Package: cellscape
Version: 1.24.0
Maintainer: Maia Smith
MaintainerEmail: maiaannesmith at gmail.com