git_url: https://git.bioconductor.org/packages/canceR
git_branch: RELEASE_3_17
git_last_commit: c49177f
git_last_commit_date: 2023-04-25 10:38:02 -0400 (Tue, 25 Apr 2023)
Package: canceR
Version: 1.34.0
Maintainer: Karim Mezhoud
MaintainerEmail: kmezhoud at gmail.com