Package: cBioPortalData
Version: 2.12.0
Command: F:\biocbuild\bbs-3.17-bioc\R\bin\R.exe CMD check --no-multiarch --install=check:cBioPortalData.install-out.txt --library=F:\biocbuild\bbs-3.17-bioc\R\library --no-vignettes --timings cBioPortalData_2.12.0.tar.gz
StartedAt: 2023-10-16 00:20:00 -0400 (Mon, 16 Oct 2023)
EndedAt: 2023-10-16 00:25:17 -0400 (Mon, 16 Oct 2023)
EllapsedTime: 317.6 seconds
RetCode: 0
Status: OK
CheckDir: cBioPortalData.Rcheck
Warnings: 0