Package: cBioPortalData Version: 2.12.0 Command: chmod a+r cBioPortalData -R && F:\biocbuild\bbs-3.17-bioc\R\bin\R.exe CMD build --keep-empty-dirs --no-resave-data cBioPortalData StartedAt: 2023-10-15 17:55:49 -0400 (Sun, 15 Oct 2023) EndedAt: 2023-10-15 17:58:43 -0400 (Sun, 15 Oct 2023) EllapsedTime: 173.4 seconds RetCode: 0 Status: OK PackageFile: cBioPortalData_2.12.0.tar.gz PackageFileSize: 969.1 <A href="http://en.wikipedia.org/wiki/KiB" target="_blank">KiB</A>