Package: cBioPortalData
Version: 2.12.0
Command: /Library/Frameworks/R.framework/Resources/bin/R CMD INSTALL cBioPortalData
StartedAt: 2023-10-15 15:46:34 -0400 (Sun, 15 Oct 2023)
EndedAt: 2023-10-15 15:48:43 -0400 (Sun, 15 Oct 2023)
EllapsedTime: 128.4 seconds
RetCode: 0
Status: OK