Package: cBioPortalData
Version: 2.12.0
Command: /Library/Frameworks/R.framework/Resources/bin/R CMD check --install=check:cBioPortalData.install-out.txt --library=/Library/Frameworks/R.framework/Resources/library --no-vignettes --timings cBioPortalData_2.12.0.tar.gz
StartedAt: 2023-10-01 23:31:49 -0400 (Sun, 01 Oct 2023)
EndedAt: 2023-10-01 23:44:36 -0400 (Sun, 01 Oct 2023)
EllapsedTime: 767.0 seconds
RetCode: 0
Status: OK
CheckDir: cBioPortalData.Rcheck
Warnings: 0