Package: cBioPortalData Version: 2.12.0 Command: /Library/Frameworks/R.framework/Resources/bin/R CMD build --keep-empty-dirs --no-resave-data cBioPortalData StartedAt: 2023-10-15 17:14:39 -0400 (Sun, 15 Oct 2023) EndedAt: 2023-10-15 17:17:32 -0400 (Sun, 15 Oct 2023) EllapsedTime: 172.8 seconds RetCode: 1 Status: ERROR PackageFile: None PackageFileSize: NA