Package: cBioPortalData
Version: 2.12.0
Command: rm -rf cBioPortalData.buildbin-libdir && mkdir cBioPortalData.buildbin-libdir && /Users/biocbuild/BBS/utils/build-universal.sh cBioPortalData_2.12.0.tar.gz /Library/Frameworks/R.framework/Resources/bin/R cBioPortalData.buildbin-libdir
StartedAt: 2023-10-02 09:20:23 -0400 (Mon, 02 Oct 2023)
EndedAt: 2023-10-02 09:22:40 -0400 (Mon, 02 Oct 2023)
EllapsedTime: 137.3 seconds
RetCode: 0
Status: OK
PackageFile: cBioPortalData_2.12.0.tgz
PackageFileSize: 1.074 <A href="http://en.wikipedia.org/wiki/MiB" target="_blank">MiB</A>