git_url: https://git.bioconductor.org/packages/blima
git_branch: RELEASE_3_17
git_last_commit: fc6ce78
git_last_commit_date: 2023-04-25 10:32:12 -0400 (Tue, 25 Apr 2023)
Package: blima
Version: 1.34.0
Maintainer: Vojtěch Kulvait
MaintainerEmail: kulvait at gmail.com