Package: biscuiteer Version: 1.14.0 Command: chmod a+r biscuiteer -R && F:\biocbuild\bbs-3.17-bioc\R\bin\R.exe CMD build --keep-empty-dirs --no-resave-data biscuiteer StartedAt: 2023-10-15 17:46:12 -0400 (Sun, 15 Oct 2023) EndedAt: 2023-10-15 17:49:02 -0400 (Sun, 15 Oct 2023) EllapsedTime: 169.8 seconds RetCode: 0 Status: OK PackageFile: biscuiteer_1.14.0.tar.gz PackageFileSize: 4.762 MiB