git_url: https://git.bioconductor.org/packages/biodbKegg
git_branch: RELEASE_3_17
git_last_commit: 1d2fd5f
git_last_commit_date: 2023-08-02 13:01:05 -0400 (Wed, 02 Aug 2023)
Package: biodbKegg
Version: 1.6.1
Maintainer: Pierrick Roger
MaintainerEmail: pierrick.roger at cea.fr