Package: bioassayR
Version: 1.38.0
Command: F:\biocbuild\bbs-3.17-bioc\R\bin\R.exe CMD INSTALL bioassayR
StartedAt: 2023-10-15 16:53:29 -0400 (Sun, 15 Oct 2023)
EndedAt: 2023-10-15 16:53:49 -0400 (Sun, 15 Oct 2023)
EllapsedTime: 19.1 seconds
RetCode: 0
Status: OK