Package: bioassayR
Version: 1.38.0
Command: F:\biocbuild\bbs-3.17-bioc\R\bin\R.exe CMD check --no-multiarch --install=check:bioassayR.install-out.txt --library=F:\biocbuild\bbs-3.17-bioc\R\library --no-vignettes --timings bioassayR_1.38.0.tar.gz
StartedAt: 2023-10-15 23:51:10 -0400 (Sun, 15 Oct 2023)
EndedAt: 2023-10-15 23:52:38 -0400 (Sun, 15 Oct 2023)
EllapsedTime: 88.2 seconds
RetCode: 0
Status: OK
CheckDir: bioassayR.Rcheck
Warnings: 0