##############################################################################
##############################################################################
###
### Running command:
###
###   rm -rf bioassayR.buildbin-libdir && mkdir bioassayR.buildbin-libdir && F:\biocbuild\bbs-3.17-bioc\R\bin\R.exe CMD INSTALL --build --library=bioassayR.buildbin-libdir bioassayR_1.38.0.tar.gz
###
##############################################################################
##############################################################################


* installing *source* package 'bioassayR' ...
** using staged installation
** R
** data
** inst
** byte-compile and prepare package for lazy loading
Creating a new generic function for 'organism' in package 'bioassayR'
Creating a new generic function for 'organism<-' in package 'bioassayR'
** help
*** installing help indices
** building package indices
** installing vignettes
** testing if installed package can be loaded from temporary location
** testing if installed package can be loaded from final location
** testing if installed package keeps a record of temporary installation path
* MD5 sums
packaged installation of 'bioassayR' as bioassayR_1.38.0.zip
* DONE (bioassayR)