Package: bioassayR
Version: 1.38.0
Command: /home/biocbuild/bbs-3.17-bioc/R/bin/R CMD INSTALL bioassayR
StartedAt: 2023-10-15 15:43:22 -0400 (Sun, 15 Oct 2023)
EndedAt: 2023-10-15 15:43:35 -0400 (Sun, 15 Oct 2023)
EllapsedTime: 12.3 seconds
RetCode: 0
Status: OK