Package: bioassayR
Version: 1.38.0
Command: /home/biocbuild/bbs-3.17-bioc/R/bin/R CMD build --keep-empty-dirs --no-resave-data bioassayR
StartedAt: 2023-10-15 16:03:35 -0400 (Sun, 15 Oct 2023)
EndedAt: 2023-10-15 16:04:36 -0400 (Sun, 15 Oct 2023)
EllapsedTime: 60.4 seconds
RetCode: 0
Status: OK
PackageFile: bioassayR_1.38.0.tar.gz
PackageFileSize: 4.526 <A href="http://en.wikipedia.org/wiki/MiB" target="_blank">MiB</A>