Package: bioassayR
Version: 1.38.0
Command: /Library/Frameworks/R.framework/Resources/bin/R CMD check --install=check:bioassayR.install-out.txt --library=/Library/Frameworks/R.framework/Resources/library --no-vignettes --timings bioassayR_1.38.0.tar.gz
StartedAt: 2023-10-15 22:56:59 -0400 (Sun, 15 Oct 2023)
EndedAt: 2023-10-15 23:00:33 -0400 (Sun, 15 Oct 2023)
EllapsedTime: 213.4 seconds
RetCode: 0
Status: OK
CheckDir: bioassayR.Rcheck
Warnings: 0