Package: bioassayR Version: 1.38.0 Command: rm -rf bioassayR.buildbin-libdir && mkdir bioassayR.buildbin-libdir && /Users/biocbuild/BBS/utils/build-universal.sh bioassayR_1.38.0.tar.gz /Library/Frameworks/R.framework/Resources/bin/R bioassayR.buildbin-libdir StartedAt: 2023-10-16 09:01:17 -0400 (Mon, 16 Oct 2023) EndedAt: 2023-10-16 09:02:04 -0400 (Mon, 16 Oct 2023) EllapsedTime: 47.3 seconds RetCode: 0 Status: OK PackageFile: bioassayR_1.38.0.tgz PackageFileSize: 1.075 <A href="http://en.wikipedia.org/wiki/MiB" target="_blank">MiB</A>