Package: bandle
Version: 1.4.1
Command: /Library/Frameworks/R.framework/Resources/bin/R CMD INSTALL bandle
StartedAt: 2023-10-15 16:16:36 -0400 (Sun, 15 Oct 2023)
EndedAt: 2023-10-15 16:21:36 -0400 (Sun, 15 Oct 2023)
EllapsedTime: 299.4 seconds
RetCode: 0
Status: OK