Package: bandle
Version: 1.4.1
Command: /Library/Frameworks/R.framework/Resources/bin/R CMD check --install=check:bandle.install-out.txt --library=/Library/Frameworks/R.framework/Resources/library --no-vignettes --timings bandle_1.4.1.tar.gz
StartedAt: 2023-10-15 22:44:39 -0400 (Sun, 15 Oct 2023)
EndedAt: 2023-10-15 23:09:44 -0400 (Sun, 15 Oct 2023)
EllapsedTime: 1505.2 seconds
RetCode: 0
Status: OK
CheckDir: bandle.Rcheck
Warnings: 0