Package: bandle
Version: 1.4.1
Command: /Library/Frameworks/R.framework/Resources/bin/R CMD build --keep-empty-dirs --no-resave-data bandle
StartedAt: 2023-10-15 16:49:29 -0400 (Sun, 15 Oct 2023)
EndedAt: 2023-10-15 17:02:28 -0400 (Sun, 15 Oct 2023)
EllapsedTime: 779.2 seconds
RetCode: 0
Status: OK
PackageFile: bandle_1.4.1.tar.gz
PackageFileSize: 1.602 <A href="http://en.wikipedia.org/wiki/MiB" target="_blank">MiB</A>