Package: bandle Version: 1.4.1 Command: rm -rf bandle.buildbin-libdir && mkdir bandle.buildbin-libdir && /Users/biocbuild/BBS/utils/build-universal.sh bandle_1.4.1.tar.gz /Library/Frameworks/R.framework/Resources/bin/R bandle.buildbin-libdir StartedAt: 2023-10-16 08:59:27 -0400 (Mon, 16 Oct 2023) EndedAt: 2023-10-16 09:04:41 -0400 (Mon, 16 Oct 2023) EllapsedTime: 314.0 seconds RetCode: 0 Status: OK PackageFile: bandle_1.4.1.tgz PackageFileSize: 2.394 <A href="http://en.wikipedia.org/wiki/MiB" target="_blank">MiB</A>