git_url: https://git.bioconductor.org/packages/artMS
git_branch: RELEASE_3_17
git_last_commit: 06049bc
git_last_commit_date: 2023-04-25 11:06:01 -0400 (Tue, 25 Apr 2023)
Package: artMS
Version: 1.18.0
Maintainer: David Jimenez-Morales
MaintainerEmail: biodavidjm at gmail.com