git_url: https://git.bioconductor.org/packages/annotationTools
git_branch: RELEASE_3_17
git_last_commit: 4115322
git_last_commit_date: 2023-04-25 09:44:59 -0400 (Tue, 25 Apr 2023)
Package: annotationTools
Version: 1.74.0
Maintainer: Alexandre Kuhn
MaintainerEmail: alexandre.m.kuhn at gmail.com