Package: alpine Version: 1.26.0 Command: rm -rf alpine.buildbin-libdir && mkdir alpine.buildbin-libdir && F:\biocbuild\bbs-3.17-bioc\R\bin\R.exe CMD INSTALL --build --library=alpine.buildbin-libdir alpine_1.26.0.tar.gz StartedAt: 2023-10-16 08:24:14 -0400 (Mon, 16 Oct 2023) EndedAt: 2023-10-16 08:24:59 -0400 (Mon, 16 Oct 2023) EllapsedTime: 44.7 seconds RetCode: 0 Status: OK PackageFile: alpine_1.26.0.zip PackageFileSize: 358.6 KiB