Package: alpine Version: 1.26.0 Command: /home/biocbuild/bbs-3.17-bioc/R/bin/R CMD INSTALL alpine StartedAt: 2023-10-15 15:22:51 -0400 (Sun, 15 Oct 2023) EndedAt: 2023-10-15 15:23:27 -0400 (Sun, 15 Oct 2023) EllapsedTime: 35.7 seconds RetCode: 0 Status: OK